BEGIN:VCALENDAR
PRODID:-//http://statistik.d-u-v.org//PHP ultracalendar//EN
VERSION:2.0
METHOD:PUBLISH
BEGIN:VEVENT
DTSTAMP:20260419T161608
CREATED:20260115T195811
UID:1776615368.0.59720000-128420@statistik.d-u-v.org
SUMMARY:Bear Lake Ultra Race
DESCRIPTION: Bear Lake Ultra Race\n
  \n
  
DTSTART:20261003T080000
DTEND:20261004T080000
LOCATION:Lapeer, MI\, USA
URL:https://runsignup.com/Race/MI/Lapeer/BearLakeUltra25
CATEGORIES:Ultramarathon
CONTACT:
CLASS:PUBLIC
PRIORITY:5
TRANSP:OPAQUE
END:VEVENT
END:VCALENDAR
