BEGIN:VCALENDAR
PRODID:-//http://statistik.d-u-v.org//PHP ultracalendar//EN
VERSION:2.0
METHOD:PUBLISH
BEGIN:VEVENT
DTSTAMP:20260419T161754
CREATED:20260113T222159
UID:1776615474.0.21347400-128363@statistik.d-u-v.org
SUMMARY:South Bay 24 Day Run
DESCRIPTION: South Bay 24 Day Run\n
  \n
  info[at]enduranceraceseries.com
DTSTART:20260815T070000
DTEND:00000000T235900
LOCATION:San Diego, CA\, USA
URL:https://www.enduranceraceseries.com/south-bay
CATEGORIES:Ultramarathon
CONTACT:
CLASS:PUBLIC
PRIORITY:5
TRANSP:OPAQUE
END:VEVENT
END:VCALENDAR
