BEGIN:VCALENDAR
PRODID:-//http://statistik.d-u-v.org//PHP ultracalendar//EN
VERSION:2.0
METHOD:PUBLISH
BEGIN:VEVENT
DTSTAMP:20260419T121538
CREATED:20260112T200512
UID:1776600938.0.07139000-128323@statistik.d-u-v.org
SUMMARY:Sri Chinmoy 6 Hour Race Skopje
DESCRIPTION: Sri Chinmoy 6 Hour Race Skopje\n
  Vasko Jovanov\n
  info[at]srichinmoyraces.mk
DTSTART:20260530T080000
DTEND:20260530T140000
LOCATION:Skopje\, MKD
URL:https://srichinmoyraces.mk
CATEGORIES:Ultramarathon
CONTACT:Vasko Jovanov
CLASS:PUBLIC
PRIORITY:5
TRANSP:OPAQUE
END:VEVENT
END:VCALENDAR
