BEGIN:VCALENDAR
PRODID:-//http://statistik.d-u-v.org//PHP ultracalendar//EN
VERSION:2.0
METHOD:PUBLISH
BEGIN:VEVENT
DTSTAMP:20260419T165020
CREATED:20260112T190204
UID:1776617420.0.51916600-128315@statistik.d-u-v.org
SUMMARY:Gdynia Ultra Way
DESCRIPTION: Gdynia Ultra Way\n
  Dariusz Rewers\n
  kontakt[at]ultra-way.pl
DTSTART:20260626T210000
DTEND:00000000T235900
LOCATION:Gdynia\, POL
URL:https://ultra-way.pl
CATEGORIES:Ultramarathon
CONTACT:Dariusz Rewers
CLASS:PUBLIC
PRIORITY:5
TRANSP:OPAQUE
END:VEVENT
END:VCALENDAR
