BEGIN:VCALENDAR
PRODID:-//http://statistik.d-u-v.org//PHP ultracalendar//EN
VERSION:2.0
METHOD:PUBLISH
BEGIN:VEVENT
DTSTAMP:20260419T173659
CREATED:20260112T190326
UID:1776620219.0.36746300-128314@statistik.d-u-v.org
SUMMARY:Gdynia Ultra Way
DESCRIPTION: Gdynia Ultra Way\n
  Dariusz Rewers\n
  kontakt[at]ultra-way.pl
DTSTART:20260627T060000
DTEND:00000000T235900
LOCATION:Gdynia\, POL
URL:https://ultra-way.pl/
CATEGORIES:Ultramarathon
CONTACT:Dariusz Rewers
CLASS:PUBLIC
PRIORITY:5
TRANSP:OPAQUE
END:VEVENT
END:VCALENDAR
