BEGIN:VCALENDAR
PRODID:-//http://statistik.d-u-v.org//PHP ultracalendar//EN
VERSION:2.0
METHOD:PUBLISH
BEGIN:VEVENT
DTSTAMP:20260419T140027
CREATED:20260110T144548
UID:1776607227.0.87490300-128268@statistik.d-u-v.org
SUMMARY:New River Gorge Trail Festival
DESCRIPTION: New River Gorge Trail Festival\n
  Andrew Mascio\n
  info[at]wolfcreektrackclub.com
DTSTART:20260620T070000
DTEND:00000000T235900
LOCATION:West Virginia\, USA
URL:https://runsignup.com/Race/WV/Fayetteville/NewRiverGorgeHalfMarathon
CATEGORIES:Ultramarathon
CONTACT:Andrew Mascio
CLASS:PUBLIC
PRIORITY:5
TRANSP:OPAQUE
END:VEVENT
END:VCALENDAR
