BEGIN:VCALENDAR
PRODID:-//http://statistik.d-u-v.org//PHP ultracalendar//EN
VERSION:2.0
METHOD:PUBLISH
BEGIN:VEVENT
DTSTAMP:20260419T161346
CREATED:20260110T142719
UID:1776615226.0.75729200-128262@statistik.d-u-v.org
SUMMARY:Rise & Run
DESCRIPTION: Rise & Run\n
  \n
  riseruntrailrace[at]gmail.com
DTSTART:20260718T040000
DTEND:00000000T235900
LOCATION:Wellsboro, PA\, USA
URL:https://ultrasignup.com/register.aspx?did=134541
CATEGORIES:Ultramarathon
CONTACT:
CLASS:PUBLIC
PRIORITY:5
TRANSP:OPAQUE
END:VEVENT
END:VCALENDAR
