BEGIN:VCALENDAR
PRODID:-//http://statistik.d-u-v.org//PHP ultracalendar//EN
VERSION:2.0
METHOD:PUBLISH
BEGIN:VEVENT
DTSTAMP:20260419T161334
CREATED:20260108T214730
UID:1776615214.0.66512500-128237@statistik.d-u-v.org
SUMMARY:Losheimer Trailfest Challenge
DESCRIPTION: Losheimer Trailfest Challenge\n
  Hendrik Dörr\n
  info[at]hartfuesslertrail.de
DTSTART:20260627T100000
DTEND:20260628T150000
LOCATION:Losheim am See\, GER
URL:http://trailfest.de
CATEGORIES:Ultramarathon
CONTACT:Hendrik Dörr
CLASS:PUBLIC
PRIORITY:5
TRANSP:OPAQUE
END:VEVENT
END:VCALENDAR
