BEGIN:VCALENDAR
PRODID:-//http://statistik.d-u-v.org//PHP ultracalendar//EN
VERSION:2.0
METHOD:PUBLISH
BEGIN:VEVENT
DTSTAMP:20260419T173616
CREATED:20260109T122644
UID:1776620176.0.01471500-128221@statistik.d-u-v.org
SUMMARY:Dog Days of Summer
DESCRIPTION: Dog Days of Summer\n
  \n
  
DTSTART:20260815T120000
DTEND:20260816T235900
LOCATION:Grandview, TN\, USA
URL:https://runsignup.com/Race/TN/Grandview/DAYSOFSUMMERTRAILRACETOBENEFITFLYINGPIGSANIMALSANCTUARY
CATEGORIES:Ultramarathon
CONTACT:
CLASS:PUBLIC
PRIORITY:5
TRANSP:OPAQUE
END:VEVENT
END:VCALENDAR
