BEGIN:VCALENDAR
PRODID:-//http://statistik.d-u-v.org//PHP ultracalendar//EN
VERSION:2.0
METHOD:PUBLISH
BEGIN:VEVENT
DTSTAMP:20260419T161514
CREATED:20260108T184114
UID:1776615314.0.37406200-128203@statistik.d-u-v.org
SUMMARY:The Golden 6 Hour
DESCRIPTION: The Golden 6 Hour\n
  \n
  wallatrails[at]gmail.com
DTSTART:20261010T100000
DTEND:00000000T235900
LOCATION:Liberty, WA\, USA
URL:https://ultrasignup.com/register.aspx?did=137103
CATEGORIES:Ultramarathon
CONTACT:
CLASS:PUBLIC
PRIORITY:5
TRANSP:OPAQUE
END:VEVENT
END:VCALENDAR
