BEGIN:VCALENDAR
PRODID:-//http://statistik.d-u-v.org//PHP ultracalendar//EN
VERSION:2.0
METHOD:PUBLISH
BEGIN:VEVENT
DTSTAMP:20260419T173539
CREATED:20260108T071836
UID:1776620139.0.70527500-128158@statistik.d-u-v.org
SUMMARY:Surf Coast Wonderfalls Trail Run
DESCRIPTION: Surf Coast Wonderfalls Trail Run\n
  Brett Saxon\n
  brett[at]trailsplus.com.au
DTSTART:20260815T080000
DTEND:00000000T235900
LOCATION:Lorne, VIC\, AUS
URL:http://www.trailsplus.com.au/wonderfalls/
CATEGORIES:Ultramarathon
CONTACT:Brett Saxon
CLASS:PUBLIC
PRIORITY:5
TRANSP:OPAQUE
END:VEVENT
END:VCALENDAR
