BEGIN:VCALENDAR
PRODID:-//http://statistik.d-u-v.org//PHP ultracalendar//EN
VERSION:2.0
METHOD:PUBLISH
BEGIN:VEVENT
DTSTAMP:20260419T140043
CREATED:20260108T071347
UID:1776607243.0.08352300-128156@statistik.d-u-v.org
SUMMARY:Glasshouse Standing
DESCRIPTION: Glasshouse Standing\n
  Brett Standring\n
  brett[at]runqueensland.com
DTSTART:20261231T170000
DTEND:00000000T235900
LOCATION:Beerwah, QLD\, AUS
URL:https://www.runqld.com.au/glasshousestanding
CATEGORIES:Ultramarathon
CONTACT:Brett Standring
CLASS:PUBLIC
PRIORITY:5
TRANSP:OPAQUE
END:VEVENT
END:VCALENDAR
