BEGIN:VCALENDAR
PRODID:-//http://statistik.d-u-v.org//PHP ultracalendar//EN
VERSION:2.0
METHOD:PUBLISH
BEGIN:VEVENT
DTSTAMP:20260419T161741
CREATED:20260107T161902
UID:1776615461.0.37863500-128110@statistik.d-u-v.org
SUMMARY:Lengericher Ultratrail am Neujahrstag
DESCRIPTION: Lengericher Ultratrail am Neujahrstag\n
  Uwe Laig\n
  uwelaig[at]web.de
DTSTART:20270101T090000
DTEND:00000000T235900
LOCATION:Lengerich\, GER
URL:https://my.raceresult.com/377589/
CATEGORIES:Ultramarathon
CONTACT:Uwe Laig
CLASS:PUBLIC
PRIORITY:5
TRANSP:OPAQUE
END:VEVENT
END:VCALENDAR
