BEGIN:VCALENDAR
PRODID:-//http://statistik.d-u-v.org//PHP ultracalendar//EN
VERSION:2.0
METHOD:PUBLISH
BEGIN:VEVENT
DTSTAMP:20260422T234931
CREATED:20260102T095415
UID:1776901771.0.46107700-128109@statistik.d-u-v.org
SUMMARY:HBU-Milen
DESCRIPTION: HBU-Milen\n
  Peter Kjeldmann\n
  peterkjeldmann[at]hotmail.com
DTSTART:20260103T090000
DTEND:20260104T090000
LOCATION:Horsens Firmaidræt\, DEN
URL:https://my.raceresult.com/367388/
CATEGORIES:Ultramarathon
CONTACT:Peter Kjeldmann
CLASS:PUBLIC
PRIORITY:5
TRANSP:OPAQUE
END:VEVENT
END:VCALENDAR
