BEGIN:VCALENDAR
PRODID:-//http://statistik.d-u-v.org//PHP ultracalendar//EN
VERSION:2.0
METHOD:PUBLISH
BEGIN:VEVENT
DTSTAMP:20260419T173603
CREATED:20260107T103559
UID:1776620163.0.88933600-128107@statistik.d-u-v.org
SUMMARY:Chicago Lakefront Fall 50km Race
DESCRIPTION: Chicago Lakefront Fall 50km Race\n
  Race Director Stuart Schulman\n
  info[at]chicagoultra.org
DTSTART:20261031T080000
DTEND:00000000T235900
LOCATION:Chicago, IL\, USA
URL:https://www.chicagoultra.org/
CATEGORIES:Ultramarathon
CONTACT:Race Director Stuart Schulman
CLASS:PUBLIC
PRIORITY:5
TRANSP:OPAQUE
END:VEVENT
END:VCALENDAR
