BEGIN:VCALENDAR
PRODID:-//http://statistik.d-u-v.org//PHP ultracalendar//EN
VERSION:2.0
METHOD:PUBLISH
BEGIN:VEVENT
DTSTAMP:20260419T135939
CREATED:20260107T094021
UID:1776607179.0.48452600-128089@statistik.d-u-v.org
SUMMARY:Thunderbird Warrior Challenge
DESCRIPTION: Thunderbird Warrior Challenge\n
  \n
  info@mtashwabay.org
DTSTART:20260613T060000
DTEND:00000000T235900
LOCATION:Bayfield, WI\, USA
URL:https://ultrasignup.com/register.aspx?did=134355
CATEGORIES:Ultramarathon
CONTACT:
CLASS:PUBLIC
PRIORITY:5
TRANSP:OPAQUE
END:VEVENT
END:VCALENDAR
