BEGIN:VCALENDAR
PRODID:-//http://statistik.d-u-v.org//PHP ultracalendar//EN
VERSION:2.0
METHOD:PUBLISH
BEGIN:VEVENT
DTSTAMP:20260419T220808
CREATED:20260107T083027
UID:1776636488.0.88427700-128079@statistik.d-u-v.org
SUMMARY:Chillbilly 8 Hour Endurance Runs
DESCRIPTION: Chillbilly 8 Hour Endurance Runs\n
  Jenna Bahaj\n
  crymearivertrailruns[at]yahoo.com
DTSTART:20260131T080000
DTEND:00000000T235900
LOCATION:Chillicothe, IL\, USA
URL:https://www.runrace.net/findarace.php?id=26031IL&tab=a4
CATEGORIES:Ultramarathon
CONTACT:Jenna Bahaj
CLASS:PUBLIC
PRIORITY:5
TRANSP:OPAQUE
END:VEVENT
END:VCALENDAR
