BEGIN:VCALENDAR
PRODID:-//http://statistik.d-u-v.org//PHP ultracalendar//EN
VERSION:2.0
METHOD:PUBLISH
BEGIN:VEVENT
DTSTAMP:20260419T220821
CREATED:20260106T182226
UID:1776636501.0.08479300-128065@statistik.d-u-v.org
SUMMARY:Holiday Five Day 3
DESCRIPTION: Holiday Five Day 3\n
  \n
  
DTSTART:20251229T060000
DTEND:00000000T235900
LOCATION:Winter Park, FL\, USA
URL:https://runsignup.com/Race/FL/WinterPark/HolidayFive
CATEGORIES:Ultramarathon
CONTACT:
CLASS:PUBLIC
PRIORITY:5
TRANSP:OPAQUE
END:VEVENT
END:VCALENDAR
