BEGIN:VCALENDAR
PRODID:-//http://statistik.d-u-v.org//PHP ultracalendar//EN
VERSION:2.0
METHOD:PUBLISH
BEGIN:VEVENT
DTSTAMP:20260419T161509
CREATED:20260106T165142
UID:1776615309.0.82338100-128045@statistik.d-u-v.org
SUMMARY:Reckless Raven 50 Mile Ultra
DESCRIPTION: Reckless Raven 50 Mile Ultra\n
  Virginia Sarrazin\n
  raven[at]runforlife.ca
DTSTART:20260705T060000
DTEND:00000000T235900
LOCATION:Whitehorse, YT\, CAN
URL:https://recklessraven.runforlife.ca/
CATEGORIES:Ultramarathon
CONTACT:Virginia Sarrazin
CLASS:PUBLIC
PRIORITY:5
TRANSP:OPAQUE
END:VEVENT
END:VCALENDAR
