BEGIN:VCALENDAR
PRODID:-//http://statistik.d-u-v.org//PHP ultracalendar//EN
VERSION:2.0
METHOD:PUBLISH
BEGIN:VEVENT
DTSTAMP:20260419T220817
CREATED:20260106T124111
UID:1776636497.0.44269400-127965@statistik.d-u-v.org
SUMMARY:Survivorfest - 6 Hour A
DESCRIPTION: Survivorfest - 6 Hour A\n
  Laura Townsend\n
  survivorfest24[at]gmail.com
DTSTART:20260613T100000
DTEND:00000000T235900
LOCATION:Sherwood Park, AB\, CAN
URL:https://ultrasignup.com/register.aspx?did=129746
CATEGORIES:Ultramarathon
CONTACT:Laura Townsend
CLASS:PUBLIC
PRIORITY:5
TRANSP:OPAQUE
END:VEVENT
END:VCALENDAR
