BEGIN:VCALENDAR
PRODID:-//http://statistik.d-u-v.org//PHP ultracalendar//EN
VERSION:2.0
METHOD:PUBLISH
BEGIN:VEVENT
DTSTAMP:20260419T173606
CREATED:20260106T114331
UID:1776620166.0.07467300-127936@statistik.d-u-v.org
SUMMARY:Rivers Edge Ultra - The Magilla
DESCRIPTION: Rivers Edge Ultra - The Magilla\n
  \n
  riversedgeultra[at]gmail.com
DTSTART:20260919T000000
DTEND:20260920T235900
LOCATION:Devon, AB\, CAN
URL:https://riversedgerunningseries.ca/rivers-edge-ultra/
CATEGORIES:Ultramarathon
CONTACT:
CLASS:PUBLIC
PRIORITY:5
TRANSP:OPAQUE
END:VEVENT
END:VCALENDAR
