BEGIN:VCALENDAR
PRODID:-//http://statistik.d-u-v.org//PHP ultracalendar//EN
VERSION:2.0
METHOD:PUBLISH
BEGIN:VEVENT
DTSTAMP:20260422T215310
CREATED:20260106T113022
UID:1776894790.0.02384500-127917@statistik.d-u-v.org
SUMMARY:Fat Dog Backyard Ultra
DESCRIPTION: Fat Dog Backyard Ultra\n
  Erik Bird\n
  erik[at]fatdog120.ca
DTSTART:20260314T090000
DTEND:00000000T235900
LOCATION:Abbotsford, BC\, CAN
URL:https://ultrasignup.com/register.aspx?did=131643
CATEGORIES:Ultramarathon
CONTACT:Erik Bird
CLASS:PUBLIC
PRIORITY:5
TRANSP:OPAQUE
END:VEVENT
END:VCALENDAR
