BEGIN:VCALENDAR
PRODID:-//http://statistik.d-u-v.org//PHP ultracalendar//EN
VERSION:2.0
METHOD:PUBLISH
BEGIN:VEVENT
DTSTAMP:20260419T180842
CREATED:20260106T112840
UID:1776622122.0.36342000-127914@statistik.d-u-v.org
SUMMARY:Fat Dog 120 Mile Trail Race
DESCRIPTION: Fat Dog 120 Mile Trail Race\n
  Erik Bird\n
  info[at]fatdog120.ca
DTSTART:20260807T100000
DTEND:20260809T100000
LOCATION:Keremeos, BC\, CAN
URL:https://www.fatdog120.ca/
CATEGORIES:Ultramarathon
CONTACT:Erik Bird
CLASS:PUBLIC
PRIORITY:5
TRANSP:OPAQUE
END:VEVENT
END:VCALENDAR
