BEGIN:VCALENDAR
PRODID:-//http://statistik.d-u-v.org//PHP ultracalendar//EN
VERSION:2.0
METHOD:PUBLISH
BEGIN:VEVENT
DTSTAMP:20260419T121641
CREATED:20260106T112522
UID:1776601001.0.81827600-127912@statistik.d-u-v.org
SUMMARY:Selkirk Slacker 8hr Ultra Trail
DESCRIPTION: Selkirk Slacker 8hr Ultra Trail\n
  \n
  smalltownraceseries[at]gmail.com
DTSTART:20260523T110000
DTEND:00000000T235900
LOCATION:Golden, BC\, CAN
URL:https://ultrasignup.com/register.aspx?did=130882
CATEGORIES:Ultramarathon
CONTACT:
CLASS:PUBLIC
PRIORITY:5
TRANSP:OPAQUE
END:VEVENT
END:VCALENDAR
