BEGIN:VCALENDAR
PRODID:-//http://statistik.d-u-v.org//PHP ultracalendar//EN
VERSION:2.0
METHOD:PUBLISH
BEGIN:VEVENT
DTSTAMP:20260419T173607
CREATED:20260106T111649
UID:1776620167.0.63120800-127903@statistik.d-u-v.org
SUMMARY:The Alpenglow 100
DESCRIPTION: The Alpenglow 100\n
  \n
  https://trailrunning.ca/contact-us/
DTSTART:20260703T193000
DTEND:20260704T235900
LOCATION:Valemount, BC\, CAN
URL:https://trailrunning.ca/race/alpenglow/
CATEGORIES:Ultramarathon
CONTACT:
CLASS:PUBLIC
PRIORITY:5
TRANSP:OPAQUE
END:VEVENT
END:VCALENDAR
