BEGIN:VCALENDAR
PRODID:-//http://statistik.d-u-v.org//PHP ultracalendar//EN
VERSION:2.0
METHOD:PUBLISH
BEGIN:VEVENT
DTSTAMP:20260419T135936
CREATED:20260105T101927
UID:1776607176.0.84121900-127899@statistik.d-u-v.org
SUMMARY:Die Bergischen 5 Etappe 4
DESCRIPTION: Die Bergischen 5 Etappe 4\n
  Thomas Steinicke\n
  events[at]conibeta.de
DTSTART:20270508T070000
DTEND:00000000T235900
LOCATION:Wermelskirchen\, GER
URL:https://bergische5.run/
CATEGORIES:Ultramarathon
CONTACT:Thomas Steinicke
CLASS:PUBLIC
PRIORITY:5
TRANSP:OPAQUE
END:VEVENT
END:VCALENDAR
