BEGIN:VCALENDAR
PRODID:-//http://statistik.d-u-v.org//PHP ultracalendar//EN
VERSION:2.0
METHOD:PUBLISH
BEGIN:VEVENT
DTSTAMP:20260419T161556
CREATED:20260105T101508
UID:1776615356.0.39678600-127898@statistik.d-u-v.org
SUMMARY:Die Bergischen 5 Etappe 3
DESCRIPTION: Die Bergischen 5 Etappe 3\n
  Thomas Steinicke\n
  events[at]conibeta.de
DTSTART:20270507T070000
DTEND:00000000T235900
LOCATION:Wermelskirchen\, GER
URL:https://bergische5.run/
CATEGORIES:Ultramarathon
CONTACT:Thomas Steinicke
CLASS:PUBLIC
PRIORITY:5
TRANSP:OPAQUE
END:VEVENT
END:VCALENDAR
