BEGIN:VCALENDAR
PRODID:-//http://statistik.d-u-v.org//PHP ultracalendar//EN
VERSION:2.0
METHOD:PUBLISH
BEGIN:VEVENT
DTSTAMP:20260419T140123
CREATED:20260106T105430
UID:1776607283.0.82233400-127888@statistik.d-u-v.org
SUMMARY:Whistler 50 Race
DESCRIPTION: Whistler 50 Race\n
  \n
  whistler50[at]bcathletics.org
DTSTART:20261003T074500
DTEND:00000000T235900
LOCATION:Whistler, BC\, CAN
URL:https://www.bcathletics.org/Whistler50RelayUltra/
CATEGORIES:Ultramarathon
CONTACT:
CLASS:PUBLIC
PRIORITY:5
TRANSP:OPAQUE
END:VEVENT
END:VCALENDAR
