BEGIN:VCALENDAR
PRODID:-//http://statistik.d-u-v.org//PHP ultracalendar//EN
VERSION:2.0
METHOD:PUBLISH
BEGIN:VEVENT
DTSTAMP:20260419T140016
CREATED:20260106T103234
UID:1776607216.0.49442100-127871@statistik.d-u-v.org
SUMMARY:Iron Horse Ultra 100 Mile Race
DESCRIPTION: Iron Horse Ultra 100 Mile Race\n
  Anna Leskiw\n
  info[at]ironhorseultra.com
DTSTART:20261003T070000
DTEND:20261004T235900
LOCATION:St. Paul, AB\, CAN
URL:https://www.ironhorseultra.com/
CATEGORIES:Ultramarathon
CONTACT:Anna Leskiw
CLASS:PUBLIC
PRIORITY:5
TRANSP:OPAQUE
END:VEVENT
END:VCALENDAR
