BEGIN:VCALENDAR
PRODID:-//http://statistik.d-u-v.org//PHP ultracalendar//EN
VERSION:2.0
METHOD:PUBLISH
BEGIN:VEVENT
DTSTAMP:20260419T140034
CREATED:20260106T093918
UID:1776607234.0.27718000-127494@statistik.d-u-v.org
SUMMARY:Sombrero Sizzler 12h
DESCRIPTION: Sombrero Sizzler 12h\n
  \n
  
DTSTART:20260718T070000
DTEND:00000000T235900
LOCATION:Jacksonville, FL\, USA
URL:https://ultrasignup.com/register.aspx?did=134322
CATEGORIES:Ultramarathon
CONTACT:
CLASS:PUBLIC
PRIORITY:5
TRANSP:OPAQUE
END:VEVENT
END:VCALENDAR
