BEGIN:VCALENDAR
PRODID:-//http://statistik.d-u-v.org//PHP ultracalendar//EN
VERSION:2.0
METHOD:PUBLISH
BEGIN:VEVENT
DTSTAMP:20260419T155246
CREATED:20260106T081326
UID:1776613966.0.48533800-127469@statistik.d-u-v.org
SUMMARY:Lake Haigler 12-Hour
DESCRIPTION: Lake Haigler 12-Hour\n
  Race Director Craig Marshall\n
  rockhillstriders[at]gmail.com
DTSTART:20261121T120000
DTEND:20261122T235900
LOCATION:Fort Mill, SC\, USA
URL:https://ultrasignup.com/register.aspx?did=134260
CATEGORIES:Ultramarathon
CONTACT:Race Director Craig Marshall
CLASS:PUBLIC
PRIORITY:5
TRANSP:OPAQUE
END:VEVENT
END:VCALENDAR
