BEGIN:VCALENDAR
PRODID:-//http://statistik.d-u-v.org//PHP ultracalendar//EN
VERSION:2.0
METHOD:PUBLISH
BEGIN:VEVENT
DTSTAMP:20260419T140059
CREATED:20260103T054436
UID:1776607259.0.08053600-127056@statistik.d-u-v.org
SUMMARY:Kaldoaivi Ultra Trail 168km
DESCRIPTION: Kaldoaivi Ultra Trail 168km\n
  \n
  post[at]kaldoaiviultratrail.fi
DTSTART:20260724T100000
DTEND:20260725T235900
LOCATION:Njallavaara\, FIN
URL:https://www.kaldoaiviultratrail.fi/en/
CATEGORIES:Ultramarathon
CONTACT:
CLASS:PUBLIC
PRIORITY:5
TRANSP:OPAQUE
END:VEVENT
END:VCALENDAR
