BEGIN:VCALENDAR
PRODID:-//http://statistik.d-u-v.org//PHP ultracalendar//EN
VERSION:2.0
METHOD:PUBLISH
BEGIN:VEVENT
DTSTAMP:20260419T140105
CREATED:20260102T123215
UID:1776607265.0.74158000-127027@statistik.d-u-v.org
SUMMARY:8 Hours at the Farm
DESCRIPTION: 8 Hours at the Farm\n
  \n
  steependurance[at]gmail.com
DTSTART:20261101T000000
DTEND:00000000T235900
LOCATION:Brookfield, CT\, USA
URL:https://ultrasignup.com/register.aspx?did=134017
CATEGORIES:Ultramarathon
CONTACT:
CLASS:PUBLIC
PRIORITY:5
TRANSP:OPAQUE
END:VEVENT
END:VCALENDAR
