BEGIN:VCALENDAR
PRODID:-//http://statistik.d-u-v.org//PHP ultracalendar//EN
VERSION:2.0
METHOD:PUBLISH
BEGIN:VEVENT
DTSTAMP:20260423T052622
CREATED:20260102T093522
UID:1776921982.0.15379200-126993@statistik.d-u-v.org
SUMMARY:Horse Thief Trail Run
DESCRIPTION: Horse Thief Trail Run\n
  Joe Prusaitis\n
  
DTSTART:20260228T070000
DTEND:00000000T235900
LOCATION:Austin, TX\, USA
URL:https://www.trailzen.run/
CATEGORIES:Ultramarathon
CONTACT:Joe Prusaitis
CLASS:PUBLIC
PRIORITY:5
TRANSP:OPAQUE
END:VEVENT
END:VCALENDAR
