BEGIN:VCALENDAR
PRODID:-//http://statistik.d-u-v.org//PHP ultracalendar//EN
VERSION:2.0
METHOD:PUBLISH
BEGIN:VEVENT
DTSTAMP:20260420T040139
CREATED:20251228T184059
UID:1776657699.0.58760600-126827@statistik.d-u-v.org
SUMMARY:S1 Explorer Ultra
DESCRIPTION: S1 Explorer Ultra\n
  Tommaso de Mottoni\n
  tommaso[at]s1trail.com
DTSTART:20260104T050000
DTEND:00000000T235900
LOCATION:Sistiana\, ITA
URL:https://www.s1trail.com/s1-explorer-ultra-78-km/
CATEGORIES:Ultramarathon
CONTACT:Tommaso de Mottoni
CLASS:PUBLIC
PRIORITY:5
TRANSP:OPAQUE
END:VEVENT
END:VCALENDAR
