BEGIN:VCALENDAR
PRODID:-//http://statistik.d-u-v.org//PHP ultracalendar//EN
VERSION:2.0
METHOD:PUBLISH
BEGIN:VEVENT
DTSTAMP:20260419T180846
CREATED:20251227T083039
UID:1776622126.0.20303200-126813@statistik.d-u-v.org
SUMMARY:Asolo 100 km
DESCRIPTION: Asolo 100 km\n
  3478171704 Nicola\n
  asolo100km[at]gmail.com
DTSTART:20260704T120000
DTEND:20260705T080000
LOCATION:Asolo\, ITA
URL:http://www.asolo100km.com
CATEGORIES:Ultramarathon
CONTACT:3478171704 Nicola
CLASS:PUBLIC
PRIORITY:5
TRANSP:OPAQUE
END:VEVENT
END:VCALENDAR
