BEGIN:VCALENDAR
PRODID:-//http://statistik.d-u-v.org//PHP ultracalendar//EN
VERSION:2.0
METHOD:PUBLISH
BEGIN:VEVENT
DTSTAMP:20260423T033617
CREATED:20251226T170455
UID:1776915377.0.23286300-126804@statistik.d-u-v.org
SUMMARY:Tanana River Challenge
DESCRIPTION: Tanana River Challenge\n
  \n
  
DTSTART:20260314T080000
DTEND:00000000T235900
LOCATION:Fairbanks, AK\, USA
URL:https://ultrasignup.com/register.aspx?did=132773
CATEGORIES:Ultramarathon
CONTACT:
CLASS:PUBLIC
PRIORITY:5
TRANSP:OPAQUE
END:VEVENT
END:VCALENDAR
