BEGIN:VCALENDAR
PRODID:-//http://statistik.d-u-v.org//PHP ultracalendar//EN
VERSION:2.0
METHOD:PUBLISH
BEGIN:VEVENT
DTSTAMP:20260419T173604
CREATED:20251226T164200
UID:1776620164.0.89122600-126796@statistik.d-u-v.org
SUMMARY:The Stuffed Turkey 30 Mile Endurance Race
DESCRIPTION: The Stuffed Turkey 30 Mile Endurance Race\n
  \n
  babycakesrunningco[at]gmail.com
DTSTART:20261121T110000
DTEND:20261122T235900
LOCATION:Granger, IA\, USA
URL:https://ultrasignup.com/register.aspx?did=132961
CATEGORIES:Ultramarathon
CONTACT:
CLASS:PUBLIC
PRIORITY:5
TRANSP:OPAQUE
END:VEVENT
END:VCALENDAR
