BEGIN:VCALENDAR
PRODID:-//http://statistik.d-u-v.org//PHP ultracalendar//EN
VERSION:2.0
METHOD:PUBLISH
BEGIN:VEVENT
DTSTAMP:20260419T140102
CREATED:20251226T163008
UID:1776607262.0.55511200-126781@statistik.d-u-v.org
SUMMARY:Ollie's Ultra 36h
DESCRIPTION: Ollie's Ultra 36h\n
  \n
  ortiz_ryan[at]hotmail.com
DTSTART:20261204T080000
DTEND:20261205T200000
LOCATION:Chanute, KS\, USA
URL:https://ultrasignup.com/register.aspx?did=133393
CATEGORIES:Ultramarathon
CONTACT:
CLASS:PUBLIC
PRIORITY:5
TRANSP:OPAQUE
END:VEVENT
END:VCALENDAR
