BEGIN:VCALENDAR
PRODID:-//http://statistik.d-u-v.org//PHP ultracalendar//EN
VERSION:2.0
METHOD:PUBLISH
BEGIN:VEVENT
DTSTAMP:20260419T173542
CREATED:20251226T151755
UID:1776620142.0.07253800-126752@statistik.d-u-v.org
SUMMARY:San Joaquin River Trail 50K Run
DESCRIPTION: San Joaquin River Trail 50K Run\n
  Race Director Nathaniel Moore\n
  sjrtrailruns[at]gmail.com
DTSTART:20261205T063000
DTEND:00000000T235900
LOCATION:Friant, CA\, USA
URL:https://runsignup.com/Race/CA/Friant/SJRT50k
CATEGORIES:Ultramarathon
CONTACT:Race Director Nathaniel Moore
CLASS:PUBLIC
PRIORITY:5
TRANSP:OPAQUE
END:VEVENT
END:VCALENDAR
