BEGIN:VCALENDAR
PRODID:-//http://statistik.d-u-v.org//PHP ultracalendar//EN
VERSION:2.0
METHOD:PUBLISH
BEGIN:VEVENT
DTSTAMP:20260419T173722
CREATED:20251226T131821
UID:1776620242.0.38842400-126700@statistik.d-u-v.org
SUMMARY:Conquer The Castle 100K Trail Race
DESCRIPTION: Conquer The Castle 100K Trail Race\n
  Race Director Eddie Carrigg\n
  eddiecarrigg[at]sbcglobal.net
DTSTART:20261107T050000
DTEND:00000000T235900
LOCATION:Willoughby Hills, OH\, USA
URL:https://runsignup.com/Race/OH/Mayfield/ConquertheCastle
CATEGORIES:Ultramarathon
CONTACT:Race Director Eddie Carrigg
CLASS:PUBLIC
PRIORITY:5
TRANSP:OPAQUE
END:VEVENT
END:VCALENDAR
