BEGIN:VCALENDAR
PRODID:-//http://statistik.d-u-v.org//PHP ultracalendar//EN
VERSION:2.0
METHOD:PUBLISH
BEGIN:VEVENT
DTSTAMP:20260419T173710
CREATED:20251226T125721
UID:1776620230.0.27387900-126687@statistik.d-u-v.org
SUMMARY:Thriller Lake
DESCRIPTION: Thriller Lake\n
  Jonathan Newton\n
  jonathan[at]summitproracing.com
DTSTART:20261024T100000
DTEND:00000000T235900
LOCATION:Dacula, GA\, USA
URL:https://runsignup.com/Race/GA/Dacula/thrillerlake
CATEGORIES:Ultramarathon
CONTACT:Jonathan Newton
CLASS:PUBLIC
PRIORITY:5
TRANSP:OPAQUE
END:VEVENT
END:VCALENDAR
