BEGIN:VCALENDAR
PRODID:-//http://statistik.d-u-v.org//PHP ultracalendar//EN
VERSION:2.0
METHOD:PUBLISH
BEGIN:VEVENT
DTSTAMP:20260419T161606
CREATED:20251226T121540
UID:1776615366.0.23202700-126664@statistik.d-u-v.org
SUMMARY:Hustle in the Heartland 8hr Run
DESCRIPTION: Hustle in the Heartland 8hr Run\n
  \n
  
DTSTART:20261010T080000
DTEND:00000000T235900
LOCATION:Lebanon, IN\, USA
URL:https://runsignup.com/Race/IN/Lebanon/HustleInTheHeartlandHrRunWalk
CATEGORIES:Ultramarathon
CONTACT:
CLASS:PUBLIC
PRIORITY:5
TRANSP:OPAQUE
END:VEVENT
END:VCALENDAR
