BEGIN:VCALENDAR
PRODID:-//http://statistik.d-u-v.org//PHP ultracalendar//EN
VERSION:2.0
METHOD:PUBLISH
BEGIN:VEVENT
DTSTAMP:20260419T173545
CREATED:20251226T114952
UID:1776620145.0.53423400-126643@statistik.d-u-v.org
SUMMARY:Flutters and Foliage Endurance Run
DESCRIPTION: Flutters and Foliage Endurance Run\n
  \n
  
DTSTART:20261003T080000
DTEND:00000000T235900
LOCATION:Cohoes, NY\, USA
URL:https://ultrasignup.com/register.aspx?did=133880
CATEGORIES:Ultramarathon
CONTACT:
CLASS:PUBLIC
PRIORITY:5
TRANSP:OPAQUE
END:VEVENT
END:VCALENDAR
