BEGIN:VCALENDAR
PRODID:-//http://statistik.d-u-v.org//PHP ultracalendar//EN
VERSION:2.0
METHOD:PUBLISH
BEGIN:VEVENT
DTSTAMP:20260419T140100
CREATED:20251226T101150
UID:1776607260.0.64249200-126613@statistik.d-u-v.org
SUMMARY:Parallel of Latitude 8 Hour Endurance Run
DESCRIPTION: Parallel of Latitude 8 Hour Endurance Run\n
  \n
  
DTSTART:20260926T080000
DTEND:00000000T235900
LOCATION:Dryden, NY\, USA
URL:https://ultrasignup.com/register.aspx?did=132490
CATEGORIES:Ultramarathon
CONTACT:
CLASS:PUBLIC
PRIORITY:5
TRANSP:OPAQUE
END:VEVENT
END:VCALENDAR
