BEGIN:VCALENDAR
PRODID:-//http://statistik.d-u-v.org//PHP ultracalendar//EN
VERSION:2.0
METHOD:PUBLISH
BEGIN:VEVENT
DTSTAMP:20260419T131816
CREATED:20100105T213507
UID:1776604696.0.44883300-1266@statistik.d-u-v.org
SUMMARY:RUN Winschoten 100 km
DESCRIPTION: RUN Winschoten 100 km\n
  \n
  
DTSTART:19960914T000000
DTEND:00000000T235900
LOCATION:Winschoten\, NED
URL:
CATEGORIES:Ultramarathon
CONTACT:
CLASS:PUBLIC
PRIORITY:5
TRANSP:OPAQUE
END:VEVENT
END:VCALENDAR
