BEGIN:VCALENDAR
PRODID:-//http://statistik.d-u-v.org//PHP ultracalendar//EN
VERSION:2.0
METHOD:PUBLISH
BEGIN:VEVENT
DTSTAMP:20260419T161733
CREATED:20251226T084030
UID:1776615453.0.00065300-126564@statistik.d-u-v.org
SUMMARY:Shawangunk Ridge Trail 70-mile Run
DESCRIPTION: Shawangunk Ridge Trail 70-mile Run\n
  Race Director Kenneth Posner\n
  posnerk[at]gmail.com
DTSTART:20260912T183000
DTEND:20260913T235900
LOCATION:High Point State Park, NJ\, USA
URL:https://ultrasignup.com/register.aspx?did=130108
CATEGORIES:Ultramarathon
CONTACT:Race Director Kenneth Posner
CLASS:PUBLIC
PRIORITY:5
TRANSP:OPAQUE
END:VEVENT
END:VCALENDAR
