BEGIN:VCALENDAR
PRODID:-//http://statistik.d-u-v.org//PHP ultracalendar//EN
VERSION:2.0
METHOD:PUBLISH
BEGIN:VEVENT
DTSTAMP:20260419T161602
CREATED:20251226T083134
UID:1776615362.0.13883200-126556@statistik.d-u-v.org
SUMMARY:Pine Creek Challenge 100 Miles
DESCRIPTION: Pine Creek Challenge 100 Miles\n
  Steve Hanes, Race Director\n
  stevehanes[at]gmail.com
DTSTART:20260912T060000
DTEND:20260913T120000
LOCATION:Wellsboro, PA\, USA
URL:https://ultrasignup.com/register.aspx?did=133558
CATEGORIES:Ultramarathon
CONTACT:Steve Hanes, Race Director
CLASS:PUBLIC
PRIORITY:5
TRANSP:OPAQUE
END:VEVENT
END:VCALENDAR
