BEGIN:VCALENDAR
PRODID:-//http://statistik.d-u-v.org//PHP ultracalendar//EN
VERSION:2.0
METHOD:PUBLISH
BEGIN:VEVENT
DTSTAMP:20260419T161513
CREATED:20251226T082053
UID:1776615313.0.55518200-126544@statistik.d-u-v.org
SUMMARY:Megunticook 50km Race
DESCRIPTION: Megunticook 50km Race\n
  \n
  devilonthedivide[at]gmail.com
DTSTART:20260912T070000
DTEND:00000000T235900
LOCATION:Camden, ME\, USA
URL:https://ultrasignup.com/register.aspx?did=130746
CATEGORIES:Ultramarathon
CONTACT:
CLASS:PUBLIC
PRIORITY:5
TRANSP:OPAQUE
END:VEVENT
END:VCALENDAR
