BEGIN:VCALENDAR
PRODID:-//http://statistik.d-u-v.org//PHP ultracalendar//EN
VERSION:2.0
METHOD:PUBLISH
BEGIN:VEVENT
DTSTAMP:20260419T161607
CREATED:20251226T080623
UID:1776615367.0.41408200-126528@statistik.d-u-v.org
SUMMARY:Temptation 200 - 200km Ultra Race
DESCRIPTION: Temptation 200 - 200km Ultra Race\n
  \n
  temptation200ultras[at]gmail.com
DTSTART:20260829T040000
DTEND:20260830T235900
LOCATION:Forest City, IL\, USA
URL:https://ultrasignup.com/register.aspx?did=129819
CATEGORIES:Ultramarathon
CONTACT:
CLASS:PUBLIC
PRIORITY:5
TRANSP:OPAQUE
END:VEVENT
END:VCALENDAR
